BEGIN:VCALENDAR
VERSION:2.0
PRODID:-//Pique Interests - ECPv6.15.18//NONSGML v1.0//EN
CALSCALE:GREGORIAN
METHOD:PUBLISH
X-ORIGINAL-URL:https://piqueinterests.com
X-WR-CALDESC:Events for Pique Interests
REFRESH-INTERVAL;VALUE=DURATION:PT1H
X-Robots-Tag:noindex
X-PUBLISHED-TTL:PT1H
BEGIN:VTIMEZONE
TZID:Asia/Tokyo
BEGIN:STANDARD
TZOFFSETFROM:+0900
TZOFFSETTO:+0900
TZNAME:JST
DTSTART:20250101T000000
END:STANDARD
END:VTIMEZONE
BEGIN:VTIMEZONE
TZID:America/New_York
BEGIN:DAYLIGHT
TZOFFSETFROM:-0500
TZOFFSETTO:-0400
TZNAME:EDT
DTSTART:20250309T070000
END:DAYLIGHT
BEGIN:STANDARD
TZOFFSETFROM:-0400
TZOFFSETTO:-0500
TZNAME:EST
DTSTART:20251102T060000
END:STANDARD
BEGIN:DAYLIGHT
TZOFFSETFROM:-0500
TZOFFSETTO:-0400
TZNAME:EDT
DTSTART:20260308T070000
END:DAYLIGHT
BEGIN:STANDARD
TZOFFSETFROM:-0400
TZOFFSETTO:-0500
TZNAME:EST
DTSTART:20261101T060000
END:STANDARD
BEGIN:DAYLIGHT
TZOFFSETFROM:-0500
TZOFFSETTO:-0400
TZNAME:EDT
DTSTART:20270314T070000
END:DAYLIGHT
BEGIN:STANDARD
TZOFFSETFROM:-0400
TZOFFSETTO:-0500
TZNAME:EST
DTSTART:20271107T060000
END:STANDARD
END:VTIMEZONE
BEGIN:VTIMEZONE
TZID:America/Denver
BEGIN:DAYLIGHT
TZOFFSETFROM:-0700
TZOFFSETTO:-0600
TZNAME:MDT
DTSTART:20250309T090000
END:DAYLIGHT
BEGIN:STANDARD
TZOFFSETFROM:-0600
TZOFFSETTO:-0700
TZNAME:MST
DTSTART:20251102T080000
END:STANDARD
BEGIN:DAYLIGHT
TZOFFSETFROM:-0700
TZOFFSETTO:-0600
TZNAME:MDT
DTSTART:20260308T090000
END:DAYLIGHT
BEGIN:STANDARD
TZOFFSETFROM:-0600
TZOFFSETTO:-0700
TZNAME:MST
DTSTART:20261101T080000
END:STANDARD
BEGIN:DAYLIGHT
TZOFFSETFROM:-0700
TZOFFSETTO:-0600
TZNAME:MDT
DTSTART:20270314T090000
END:DAYLIGHT
BEGIN:STANDARD
TZOFFSETFROM:-0600
TZOFFSETTO:-0700
TZNAME:MST
DTSTART:20271107T080000
END:STANDARD
END:VTIMEZONE
BEGIN:VTIMEZONE
TZID:America/Los_Angeles
BEGIN:DAYLIGHT
TZOFFSETFROM:-0800
TZOFFSETTO:-0700
TZNAME:PDT
DTSTART:20250309T100000
END:DAYLIGHT
BEGIN:STANDARD
TZOFFSETFROM:-0700
TZOFFSETTO:-0800
TZNAME:PST
DTSTART:20251102T090000
END:STANDARD
BEGIN:DAYLIGHT
TZOFFSETFROM:-0800
TZOFFSETTO:-0700
TZNAME:PDT
DTSTART:20260308T100000
END:DAYLIGHT
BEGIN:STANDARD
TZOFFSETFROM:-0700
TZOFFSETTO:-0800
TZNAME:PST
DTSTART:20261101T090000
END:STANDARD
BEGIN:DAYLIGHT
TZOFFSETFROM:-0800
TZOFFSETTO:-0700
TZNAME:PDT
DTSTART:20270314T100000
END:DAYLIGHT
BEGIN:STANDARD
TZOFFSETFROM:-0700
TZOFFSETTO:-0800
TZNAME:PST
DTSTART:20271107T090000
END:STANDARD
END:VTIMEZONE
BEGIN:VEVENT
DTSTART;TZID=Asia/Tokyo:20260918T000000
DTEND;TZID=Asia/Tokyo:20260918T000000
DTSTAMP:20260422T051821
CREATED:20260416T174307Z
LAST-MODIFIED:20260416T174307Z
UID:10001781-1789689600-1789689600@piqueinterests.com
SUMMARY:Kikisake-shi Forum 2026 (Day 1 of 2)
DESCRIPTION:Explore the world of Niigata Nagaoka sake over two days of in-depth seminars\, tastings\, and panels at the Kikisake-shi Forum 2026\, featuring Nagaoka City. Ticket includes admission to the renowned Echigo Nagaoka Sake Festival. Hosted by the Sake Service Institute (SSI) in partnership with SSI International.
URL:https://piqueinterests.com/event/kikisake-shi-forum-2026/
LOCATION:City Hall Plaza Aore Nagaoka\, 10\, Nagaoka\, Niigata\, 940-0062\, JP
CATEGORIES:Niigata
ATTACH;FMTTYPE=image/jpeg:https://piqueinterests.com/wp-content/uploads/2026/04/670617194_18053745719718421_2409268185794343873_n.jpg
GEO:37.4464088;138.8512431
X-APPLE-STRUCTURED-LOCATION;VALUE=URI;X-ADDRESS=City Hall Plaza Aore Nagaoka 10 Nagaoka Niigata 940-0062 JP;X-APPLE-RADIUS=500;X-TITLE=10:geo:138.8512431,37.4464088
END:VEVENT
BEGIN:VEVENT
DTSTART;TZID=America/New_York:20260924T120000
DTEND;TZID=America/New_York:20260924T130000
DTSTAMP:20260422T051821
CREATED:20260311T210713Z
LAST-MODIFIED:20260311T210713Z
UID:10001470-1790251200-1790254800@piqueinterests.com
SUMMARY:Printed Matter's NY Art Book Fair 2026 (Day 1 of 4)
DESCRIPTION:Celebrate the vibrant world of artists’ publications at Printed Matter’s NY Art Book Fair 2026. Hosted at MoMA PS1\, this beloved annual event returns with four days of zines\, independent books\, art publications\, and unique printed works. Explore a diverse range of exhibitors\, attend talks and workshops\, and connect with creatives from around the globe. Whether you’re a collector\, artist\, or just curious about the art book scene\, this fair is a must-see in New York City. Applications to exhibit are open through March 30\, 2026.
URL:https://piqueinterests.com/event/printed-matters-ny-art-book-fair-2026/
LOCATION:MoMA PS1\, 22-25 Jackson Avenue\, NY\, 11101\, US
CATEGORIES:New York City
ATTACH;FMTTYPE=image/jpeg:https://piqueinterests.com/wp-content/uploads/2026/03/649914179_18303056686285557_1916759466888198733_n.jpg
GEO:40.7456014;-73.947097
X-APPLE-STRUCTURED-LOCATION;VALUE=URI;X-ADDRESS=MoMA PS1 22-25 Jackson Avenue NY 11101 US;X-APPLE-RADIUS=500;X-TITLE=22-25 Jackson Avenue:geo:-73.947097,40.7456014
END:VEVENT
BEGIN:VEVENT
DTSTART;TZID=America/Denver:20261003T120000
DTEND;TZID=America/Denver:20261003T160000
DTSTAMP:20260422T051821
CREATED:20260401T013740Z
LAST-MODIFIED:20260401T013740Z
UID:10001641-1791028800-1791043200@piqueinterests.com
SUMMARY:Denver's Queen City Sake Fest 2026
DESCRIPTION:Back for its third year\, Denver’s Queen City Sake Fest returns on October 3rd\, 2026 at Finn’s Manor. Enjoy a VIP sake tasting from 12:00–1:00 PM\, followed by general admission sake tasting from 1:00–4:00 PM. Explore a diverse array of Japanese sake and join fellow enthusiasts for an afternoon of delicious discoveries in a lively festival atmosphere.
URL:https://piqueinterests.com/event/denvers-queen-city-sake-fest-2026/
LOCATION:Finn’s Manor\, 2927 Larimer Street\, Denver\, CO\, 80205\, US
CATEGORIES:Denver
ATTACH;FMTTYPE=image/jpeg:https://piqueinterests.com/wp-content/uploads/2026/03/661466719_17932853400212459_155332895825905861_n.jpg
GEO:39.7619403;-104.9814749
X-APPLE-STRUCTURED-LOCATION;VALUE=URI;X-ADDRESS=Finn’s Manor 2927 Larimer Street Denver CO 80205 US;X-APPLE-RADIUS=500;X-TITLE=2927 Larimer Street:geo:-104.9814749,39.7619403
END:VEVENT
BEGIN:VEVENT
DTSTART;TZID=America/Los_Angeles:20261012T080000
DTEND;TZID=America/Los_Angeles:20261012T160000
DTSTAMP:20260422T051821
CREATED:20260227T043228Z
LAST-MODIFIED:20260227T043228Z
UID:10001213-1791792000-1791820800@piqueinterests.com
SUMMARY:Certified Sake Sommelier Online (Day 1 of 3)
DESCRIPTION:Looking to level up your knowledge and appreciation of Japanese sake? The Sake School of America is hosting a Certified Sake Sommelier online course—a comprehensive\, three-day program geared for beverage professionals and enthusiastic hobbyists alike. Dive into principal sake categories\, master serving and storage skills\, and taste through 15 guided sake samples with seasoned experts Sara Guterbock and Atsuko Glick. The interactive training runs October 12–14\, 2026\, via Zoom. Tasting kits are available for pick-up in Los Angeles or can be shipped across the US. After successful completion\, candidates attend an in-person exam at select locations to achieve the prestigious Sake Sommelier certification. Participants must be 21+ and have Sake Adviser credentials or relevant background. Registration deadline: September 28\, 2026\, at 5pm PT. Cost covers tuition\, sake kit\, and a textbook. See the event site for full details and exam logistics.
URL:https://piqueinterests.com/event/certified-sake-sommelier-online-october-12-13-14-2026/
CATEGORIES:Virtual Events
ATTACH;FMTTYPE=image/png:https://piqueinterests.com/wp-content/uploads/2026/02/image0.png
END:VEVENT
BEGIN:VEVENT
DTSTART;TZID=Asia/Tokyo:20261017T110000
DTEND;TZID=Asia/Tokyo:20261017T190000
DTSTAMP:20260422T051821
CREATED:20260103T081646Z
LAST-MODIFIED:20260221T175445Z
UID:10000896-1792234800-1792263600@piqueinterests.com
SUMMARY:Echigo Kenshin Sake Festival 2026 (Day 1 of 2)
DESCRIPTION:The 21st Echigo Kenshin Sake Festival returns in 2026 for a two-day celebration! Sake\, wine\, and craft beer crafted in the Joetsu region will be featured. Guests can enjoy tastings and the opportunity to purchase regional beverages\, all in one place. Details about the festival activities and lineup will be updated frequently on the official website and social media\, so stay tuned!
URL:https://piqueinterests.com/event/echigo-kenshin-sake-festival-2026/
LOCATION:Takada Honcho Shopping Street\, Japan\, Joetsu\, Niigata\, 943-0835\, JP
CATEGORIES:Niigata
ATTACH;FMTTYPE=image/jpeg:https://piqueinterests.com/wp-content/uploads/2025/12/605432705_18068119955431724_5264776214082948368_n.jpg
GEO:37.1078867;138.2548332
X-APPLE-STRUCTURED-LOCATION;VALUE=URI;X-ADDRESS=Takada Honcho Shopping Street Japan Joetsu Niigata 943-0835 JP;X-APPLE-RADIUS=500;X-TITLE=Japan:geo:138.2548332,37.1078867
END:VEVENT
BEGIN:VEVENT
DTSTART;TZID=America/Los_Angeles:20261102T090000
DTEND;TZID=America/Los_Angeles:20261102T160000
DTSTAMP:20260422T051821
CREATED:20260227T043253Z
LAST-MODIFIED:20260227T043253Z
UID:10001203-1793610000-1793635200@piqueinterests.com
SUMMARY:WSET Level 2 Award in Sake Online (Day 1 of 2)
DESCRIPTION:The WSET Level 2 Award in Sake is an in-depth online course designed for both sake professionals and enthusiasts. Spanning two days\, it focuses on the key styles of sake\, their ingredients\, and the production process. Students will learn to assess sake quality using the WSET Systematic Approach\, gain the ability to interpret labeling terms\, and receive guidance on sake selection and service. The course includes a textbook\, 10-15 tasting samples\, and concludes with a remote-invigilation exam (online) on November 16. Sake samples can be picked up at Los Angeles Mutual Trading or shipped. Instructors Sara Guterbock and Atsuko Glick\, both highly qualified sake educators\, will guide the course. Participants must be 21+ and have two devices with cameras for the exam. Minimum of 5 students required for the class to proceed. If the minimum isn’t met\, a full refund is issued. Registration closes October 2 (print textbook) or October 19 (digital).
URL:https://piqueinterests.com/event/wset-level-2-award-in-sake-online-course/
CATEGORIES:Virtual Events
ATTACH;FMTTYPE=image/jpeg:https://piqueinterests.com/wp-content/uploads/2026/02/image0-6.jpeg
END:VEVENT
BEGIN:VEVENT
DTSTART;TZID=America/Los_Angeles:20261116T090000
DTEND;TZID=America/Los_Angeles:20261116T160000
DTSTAMP:20260422T051821
CREATED:20260227T043324Z
LAST-MODIFIED:20260227T043324Z
UID:10001204-1794819600-1794844800@piqueinterests.com
SUMMARY:Certified Sake Adviser Online Course
DESCRIPTION:Elevate your expertise with the Certified Sake Adviser Online Course\, designed for hospitality professionals and devoted sake fans. Through engaging lectures\, guided tastings\, and collaborative group discussions\, you’ll explore the fascinating history of sake\, key ingredients\, brewing processes\, classification systems\, and tasting techniques. Participants will sample and evaluate more than a dozen sakes representing a wide range of styles and varieties. Course includes a review guide and live Zoom access. Note: The program is open to all levels and requires students to be at least 21 years old. Graduates are eligible for advanced certification programs.
URL:https://piqueinterests.com/event/certified-sake-adviser-online-course/
CATEGORIES:Virtual Events
ATTACH;FMTTYPE=image/jpeg:https://piqueinterests.com/wp-content/uploads/2026/02/image0-7.jpeg
END:VEVENT
END:VCALENDAR